BEGIN:VCALENDAR
VERSION:2.0
PRODID:-//Sacred Mountain Retreat Center - ECPv6.15.11//NONSGML v1.0//EN
CALSCALE:GREGORIAN
METHOD:PUBLISH
X-WR-CALNAME:Sacred Mountain Retreat Center
X-ORIGINAL-URL:https://sacredmtnretreat.org
X-WR-CALDESC:Events for Sacred Mountain Retreat Center
REFRESH-INTERVAL;VALUE=DURATION:PT1H
X-Robots-Tag:noindex
X-PUBLISHED-TTL:PT1H
BEGIN:VTIMEZONE
TZID:America/Denver
BEGIN:DAYLIGHT
TZOFFSETFROM:-0700
TZOFFSETTO:-0600
TZNAME:MDT
DTSTART:20220313T090000
END:DAYLIGHT
BEGIN:STANDARD
TZOFFSETFROM:-0600
TZOFFSETTO:-0700
TZNAME:MST
DTSTART:20221106T080000
END:STANDARD
BEGIN:DAYLIGHT
TZOFFSETFROM:-0700
TZOFFSETTO:-0600
TZNAME:MDT
DTSTART:20230312T090000
END:DAYLIGHT
BEGIN:STANDARD
TZOFFSETFROM:-0600
TZOFFSETTO:-0700
TZNAME:MST
DTSTART:20231105T080000
END:STANDARD
BEGIN:DAYLIGHT
TZOFFSETFROM:-0700
TZOFFSETTO:-0600
TZNAME:MDT
DTSTART:20240310T090000
END:DAYLIGHT
BEGIN:STANDARD
TZOFFSETFROM:-0600
TZOFFSETTO:-0700
TZNAME:MST
DTSTART:20241103T080000
END:STANDARD
END:VTIMEZONE
BEGIN:VEVENT
DTSTART;TZID=America/Denver:20230930T130000
DTEND;TZID=America/Denver:20230930T203000
DTSTAMP:20260424T060122
CREATED:20230822T183434Z
LAST-MODIFIED:20230908T145648Z
UID:8718-1696078800-1696105800@sacredmtnretreat.org
SUMMARY:The Spirits of Deadwood Paranormal Event
DESCRIPTION:Experience a visit to one of South Dakota’s most renowned and eerie towns! Join us as we explore three distinct sites accompanied by well-known figures in the paranormal field and creators of ghost-hunting equipment. So\, are you ready to explore the spirits of Deadwood with area experts and TV professionals? \n𝘈𝘭𝘭 𝘱𝘳𝘰𝘤𝘦𝘦𝘥𝘴 𝘣𝘦𝘯𝘦𝘧𝘪𝘵 𝘵𝘩𝘦 𝘚𝘢𝘤𝘳𝘦𝘥 𝘔𝘰𝘶𝘯𝘵𝘢𝘪𝘯 𝘙𝘦𝘵𝘳𝘦𝘢𝘵 𝘊𝘦𝘯𝘵𝘦𝘳.
URL:https://sacredmtnretreat.org/event/the-spirits-of-deadwood-paranormal-event
LOCATION:Historic Bullock Hotel\, 633 Main Street\, Deadwood\, SD\, 57732\, United States
CATEGORIES:Fundraising Events
ATTACH;FMTTYPE=image/jpeg:https://sacredmtnretreat.org/wp-content/uploads/2023/08/Resized_received_779059323997398.jpeg
END:VEVENT
END:VCALENDAR